BEGIN:VCALENDAR
VERSION:2.0
PRODID:-//360 Alumni//Dartmouth Dragon Foundation//EN
METHOD:REQUEST
BEGIN:VEVENT
UID:10010
DTSTAMP:20230504T220000Z
DTSTART:20230504T220000Z
DTEND:20230505T010000Z
LOCATION:Ned Devine's Irish Pub
SUMMARY: Boston Dragon Alumni & Undergraduate Happy Hour
DESCRIPTION: Celebrating 125 Years of Dragon in Boston!&nbsp;Join the Dragon '23s and '24s, who will be in town for the 2023 Goon Academy, and other Boston-area alumni on Thursday, May 4, 2023, to celebrate 125 years of Dragon!&nbsp;&nbsp;LocationNed Devine's Irish Pub (in Faneuil Hall)1 North Market StreetBoston, MA 02109&nbsp;Time6pm - 9pm&nbsp;Lite fare will be served.RSVP by May 1, 2023 is kindly requested.&nbsp;&nbsp;Should you have any questions or need to RSVP after May 1st, please don't hesitate to contact us at:info@dartmouthdragonfoundation.org&nbsp;We look forward to seeing you in Boston!&nbsp;
END:VEVENT
END:VCALENDAR
