BEGIN:VCALENDAR
VERSION:2.0
PRODID:-//360 Alumni//Dartmouth Dragon Foundation//EN
METHOD:REQUEST
BEGIN:VEVENT
UID:10017
DTSTAMP:20230601T220000Z
DTSTART:20230601T220000Z
DTEND:20230602T010000Z
LOCATION:Grammercy Ale House
SUMMARY: New York Dragon Alumni Happy Hour
DESCRIPTION: Celebrating 125 Years of Dragon in New York City!&nbsp;Join your fellow New York-area alumni on Thursday, June 1, 2023, to celebrate 125 years of Dragon.&nbsp;&nbsp;LocationGramercy Ale House272 3rd Avenue (between 21st &amp; 22nd)New York, NY 10010&nbsp;Time6pm - 9pm&nbsp;Lite fare will be served.RSVP by May 26, 2023 is kindly requested.&nbsp;We look forward to seeing you in NYC!&nbsp;Should you have any questions, or need to register after May 26th, please don't hesitate to contact us at:info@dartmouthdragonfoundation.org
END:VEVENT
END:VCALENDAR
