BEGIN:VCALENDAR
VERSION:2.0
PRODID:-//360 Alumni//Dartmouth Dragon Foundation//EN
METHOD:REQUEST
BEGIN:VEVENT
UID:10023
DTSTAMP:20230618T160000Z
DTSTART:20230618T160000Z
DTEND:20230618T200000Z
LOCATION:True North Ale Company
SUMMARY: Dragon Father's Day Family BBQ
DESCRIPTION: Postponed to 2024Please stay tuned for a new date to be announced next year.&nbsp;Celebrating 125 Years of Dragon in Ipswich!&nbsp;Join us to celebrate 125 years of Dragon on Sunday, June 18, 2023 at a family-friendly Father's Day BBQ.&nbsp;LocationTrue North Ale Company116 County RoadIpswich, MA 01938&nbsp;Time12pm - 4pm&nbsp;A catered BBQ lunch will be served. RSVP by June 12, 2023 is kindly requested.&nbsp;Should you have any questions or need to register after June 12, 2023, please don't hesitate to contact us at:info@dartmouthdragonfoundation.org&nbsp;We look forward to seeing you and your family in Ipswich in June!&nbsp;About True North Ale CompanyTrue North Ale Company was co-founded by Gary Rogers, Dragon '77, and his son Jake. To learn more about the brewery, please visit:www.truenorthales.com
END:VEVENT
END:VCALENDAR
