BEGIN:VCALENDAR
VERSION:2.0
PRODID:-//360 Alumni//Dartmouth Dragon Foundation//EN
METHOD:REQUEST
BEGIN:VEVENT
UID:10026
DTSTAMP:20231110T220000Z
DTSTART:20231110T220000Z
DTEND:20231112T040000Z
LOCATION:Hanover, NH
SUMMARY: Dragon 125th Anniversary Weekend in Hanover
DESCRIPTION: Celebrating 125 Years of Dragon in Hanover!&nbsp;Join us in Hanover November 10-11, 2023, to celebrate 125 years of Dragon!&nbsp;We look forward to welcoming you and your families back to the T in November.  RSVP kindly requested by October 6, 2023.&nbsp;Weekend ScheduleFriday, November 10thEvent Check-In and Open House at the T5pm - 8pm&nbsp;Saturday, November 11thEvent Check-in at the T11am - 4pm&nbsp;Family Tailgate Lunch at the T12pm - 2pm&nbsp;Veterans Day Dedication at the T12:15pm&nbsp;Alumni Cocktail Reception at the Hanover Inn(Goon Alumni and adult guests welcome)Hosted lite fare, beer and wine. Cash bar available.6pm - 9pmRemarks will begin at 6:30pm.&nbsp;Late Night Pizza and Beer at the T10pm onward&nbsp;&nbsp;LodgingWe have reserved blocks of rooms at the following hotels:&nbsp;The Hanover Inn&nbsp;(SOLD OUT)T: 603.643.4300&nbsp;Six South Street Hotel&nbsp;(SOLD OUT)T: 603.643.0600&nbsp;The Marriott Courtyard (Centerra)(ROOM BLOCK HAS EXPIRED; REGULAR ROOMS MAY BE AVAILABLE)T: 603.643.5600&nbsp;Please book your rooms early as availability is limited. Mention "Dragon" when you make your reservation to ensure you get the discounted rate!&nbsp;Questions?IMPORTANT: Online registration will close on October 31st. If you have questions or need to register after October 31st, please contact us directly at:E: info@dartmouthdragonfoundation.org&nbsp;We look forward to seeing you in Hanover in November!
END:VEVENT
END:VCALENDAR
