BEGIN:VCALENDAR
VERSION:2.0
PRODID:-//360 Alumni//Dartmouth Dragon Foundation//EN
METHOD:REQUEST
BEGIN:VEVENT
UID:10660
DTSTAMP:20240425T210000Z
DTSTART:20240425T210000Z
DTEND:20240425T233000Z
LOCATION:PKL Boston
SUMMARY: Dragon Undergraduate & Alumni Happy Hour
DESCRIPTION: Dragon Undergraduate and Alumni Happy Hour!&nbsp;Meet the Dragon undergraduates in town for the 2024 Goon Academy and fellow  alumni at our annual Boston-area happy hour.&nbsp;&nbsp;Pickleball, shuffleboard, and cornhole will be available for your enjoyment.&nbsp;Join us for an evening of games and lite fare!Lite fare and court rental provided. Cash bar. &nbsp;Please don't forget to register so we have an accurate count for the food order.&nbsp;We hope to see you at PKL on April 25th!&nbsp;Questions?Please don't hesitate to contact Shafika Khayatt, Executive Director, at:E: director@dartmouthdragonfoundation.orgT: 603.443.1977
END:VEVENT
END:VCALENDAR
