BEGIN:VCALENDAR
VERSION:2.0
PRODID:-//360 Alumni//Dartmouth Dragon Foundation//EN
METHOD:REQUEST
BEGIN:VEVENT
UID:10708
DTSTAMP:20240614T210000Z
DTSTART:20240614T210000Z
DTEND:20240614T223000Z
LOCATION:The Tomb
SUMMARY: Dragon 2024 Dartmouth Reunion Weekend Open House
DESCRIPTION: Join us at the T on Friday night of the 2024 Dartmouth Reunion Weekend!We look forward to welcoming you and your familiesback to the T before your class dinners.&nbsp;Come raise a glass to Big Johnwith&nbsp;other Goons back&nbsp;on campus for their reunions!We hope to see you soon at the T!&nbsp;&nbsp;Please register so we have an accurate count for food and beverages.&nbsp;Questions?Please contact Shafika at:E: director@dartmouthdragonfoundation.orgO: 603.443.1977M: 603.667.3187&nbsp;To view the Dartmouth Reunions 2024 Website, please click here.&nbsp;SUPPORT DRAGON TODAY!You can easily make your annual gift to Dragon by clicking here! Each Dragon class relies on the generosity of our alumni to support the Tomb. As a registered 501(c)(3) organization, your donation to the Dartmouth Dragon Foundation is tax deductible to the extent provided by law.&nbsp;
END:VEVENT
END:VCALENDAR
