BEGIN:VCALENDAR
VERSION:2.0
PRODID:-//360 Alumni//Dartmouth Dragon Foundation//EN
METHOD:REQUEST
BEGIN:VEVENT
UID:10988
DTSTAMP:20241024T220000Z
DTSTART:20241024T220000Z
DTEND:20241025T020000Z
LOCATION:Gramercy Ale House
SUMMARY: Dragon Happy Hour - New York City
DESCRIPTION: JOIN DRAGON IN NYC!Catch up with Goons in the greater New York City area this fall while raising a glass to Big John!&nbsp;WhereGramercy Ale House (3rd Avenue between 21st and 22nd)&nbsp;WhenThursday, October 246pm - 10pm&nbsp;Lite fare provided. Cash bar. Please register above by October 19th to ensure we have an accurate count for food. &nbsp;SUPPORT DRAGON TODAY!You can now easily make your gift to the 2024 Dragon Annual Fund online via PayPal. These funds go directly to underwriting the costs associated with owning and maintaining the Tomb, including paying property taxes, utilities (i.e. trash, water, electric, etc.), grounds maintenance, insurance, and other operating expenses. And if your employer offers a matching gift program, the Dartmouth Dragon Foundation is a qualified recipient organization. Taking a few minutes to complete your employer's form could allow you to double your gift to Dragon!&nbsp;&nbsp;QUESTIONS?If you have any questions, please don't hesitate to reach out to Shafika at:E: director@dartmouthdragonfoundation.orgO: 603.443.1977 | M: 603.667.3187&nbsp;WE LOOK FORWARD TO SEEING YOU SOON!&nbsp;
END:VEVENT
END:VCALENDAR
