BEGIN:VCALENDAR
VERSION:2.0
PRODID:-//360 Alumni//Dartmouth Dragon Foundation//EN
METHOD:REQUEST
BEGIN:VEVENT
UID:11299
DTSTAMP:20250613T200000Z
DTSTART:20250613T200000Z
DTEND:20250613T213000Z
LOCATION:The Tomb
SUMMARY: 2025 Reunion Weekend Open House: Dragon Class of 1975
DESCRIPTION: Please join your fellow Dragon '75s at the Tomb on theFriday night of your 2025 Dartmouth Reunion Weekend!&nbsp;We look forward to welcoming you and your guests&nbsp;back to the Tomb before your class dinner. Lite faire will be provided. Please don't forget to register so we have an accurate count for food and beverages!&nbsp;Questions?If you have any questions or would like help registering,&nbsp;please contact Shafika Khayatt at:E: director@dartmouthdragonfoundation.org or&nbsp;M: 603.667.3187&nbsp;To view the Dartmouth Reunions 2025 Website, please click&nbsp;here.&nbsp;Make your 2025 Contribution to Dragon Today!Each Dragon class continues to rely on the generosity of our alumni to support the Tomb. As a registered 501(c)(3) organization, your donation to the Dartmouth Dragon Foundation is tax deductible to the extent provided by law.&nbsp;&nbsp;You can make your annual contribution to Dragon online by clicking&nbsp;here! Or, if you prefer to send your donation via mail, you may do so at:Dartmouth Dragon Foundation | PO Box 801 | Hanover, NH 03755&nbsp;Thank you for supporting Dragon!&nbsp;
END:VEVENT
END:VCALENDAR
