BEGIN:VCALENDAR
VERSION:2.0
PRODID:-//360 Alumni//Dartmouth Dragon Foundation//EN
METHOD:REQUEST
BEGIN:VEVENT
UID:11718
DTSTAMP:20260619T210000Z
DTSTART:20260619T210000Z
DTEND:20260619T223000Z
LOCATION:The Tomb
SUMMARY: June 2026 Reunion Weekend Dragon Open House
DESCRIPTION: Please join your fellow Dragon Alumni at the Tomb to Raise a Glass to Big Johnon theFriday night of your 2026 Dartmouth Reunion Weekend!We look forward to welcoming you and your guests back to the Tomb before your class dinner. Light refreshments will be provided. Please don&rsquo;t forget to register so we have an accurate count for food and beverages!&nbsp;Questions?If you have any questions or would like help registering, please contact Shafika Khayatt at:E: director@dartmouthdragonfoundation.org or M: 603.667.3187To view the 2026 Dartmouth Reunions Website, please click here.&nbsp;Make your 2026 Dragon Annual Fund Donation Today!Each Dragon class continues to rely on the generosity of our alumni to support the Tomb.As a registered 501(c)(3) organization, your donation to the Dartmouth Dragon Foundation is tax deductible to the extent provided by law. You can make your annual donation to Dragon online by clicking here!If you prefer to send your donation via mail, you may do so at:Dartmouth Dragon Foundation | PO Box 801 | Hanover, NH 03755&nbsp;** Please make checks payable to Dartmouth Dragon Foundation. **&nbsp;Thank you for supporting Dragon!&nbsp;
END:VEVENT
END:VCALENDAR
