BEGIN:VCALENDAR
VERSION:2.0
PRODID:-//360 Alumni//Dartmouth Dragon Foundation//EN
METHOD:REQUEST
BEGIN:VEVENT
UID:11719
DTSTAMP:20260724T210000Z
DTSTART:20260724T210000Z
DTEND:20260724T223000Z
LOCATION:The Tomb
SUMMARY: July 2026 Reunion Weekend Dragon Open House
DESCRIPTION: Please join your fellow Dragon Alumni at the Tomb to raise a glass to Big Johnon theFriday night of your 2026 Dartmouth Reunion Weekend!&nbsp;We look forward to welcoming you and your guests back to the Tomb before your class dinner.&nbsp;Light refreshments will be provided. Please don't forget to register so we have an accurate count for food &amp; beverages!&nbsp;Questions?If you have any questions or would like help registering, please contact Shafika at:E: director@dartmouthdragonfoundation.org or M: 603.667.3187To view the Dartmouth Reunions 2026 Website, please click here.&nbsp;Make your 2026 Donation to the Dragon Annual Fund Today!Each Dragon class continues to rely on the generosity of our alumni to support the Tomb. As a registered 501(c)(3) organization, your donation to the Dartmouth Dragon Foundation is tax deductible to the extent provided by law. &nbsp;You can make your annual contribution to Dragon online by clicking here!If you prefer to mail your annual contribution, you may do so at:Dartmouth Dragon Foundation | PO Box 801 | Hanover, NH 03755&nbsp;** Please make checks payable to Dartmouth Dragon Foundation. **&nbsp;Thank you for supporting Dragon!
END:VEVENT
END:VCALENDAR
