BEGIN:VCALENDAR
VERSION:2.0
PRODID:-//360 Alumni//Dartmouth Dragon Foundation//EN
METHOD:REQUEST
BEGIN:VEVENT
UID:11723
DTSTAMP:20260607T000000Z
DTSTART:20260607T000000Z
DTEND:20260607T030000Z
LOCATION:The Irish Times Pub & Restaurant
SUMMARY: Dragon Happy Hour - Los Angeles
DESCRIPTION: Inaugural Dragon HappyHour - Los Angeles&nbsp;Join Dragon Alumni at The Irish Times Pub &amp; Restaurant in Los Angeles and raise a glass to Big John!&nbsp;WhenSaturday, June 6th5pm&nbsp;WhereThe Irish Times Pub &amp; Restaurant3267 Motor Avenue | Los Angeles, CA 90034T: 310.559.9648&nbsp;Thank you to Finn Callahan D25, Taylor Cathcart D15, and Zach Drescher D23 for organizing the event!&nbsp;Make your 2026 contribution to support Dragon today!Each Dragon class continues to rely on the generosity of our alumni to support the Tomb. As a 501(c)(3) organization, you donation to the Dartmouth Dragon Foundation is tax deductible to the extent provided by law.&nbsp;&nbsp;You can easily make a one-time gift or set up a recurring donation online by clicking here.&nbsp;If you prefer to mail your annual contribution, you may do so by sending your donation to:Dartmouth Dragon FoundationPO Box 801 | Hanover, NH 03755&nbsp;Questions?If you have any questions, please don't hesitate to contact Shafika Khayatt at:E: director@dartmouthdragonfoundation.orgM: 603.667.3187&nbsp;
END:VEVENT
END:VCALENDAR
