BEGIN:VCALENDAR
VERSION:2.0
PRODID:-//360 Alumni//Dartmouth Dragon Foundation//EN
METHOD:REQUEST
BEGIN:VEVENT
UID:11732
DTSTAMP:20260528T180000Z
DTSTART:20260528T180000Z
DTEND:20260528T210000Z
LOCATION:PKL Boston
SUMMARY: Goon Academy Networking Happy Hour
DESCRIPTION: Dragon will be Back in Boston on May 28th!&nbsp;Please join the Dragon undergraduates at PKL in South Bostonfor anetworking happy hour to close out our 5th annual Goon Academy.&nbsp;(Playing pickleball is not required, but we have the courts reserved from 6pm - 8pm!)&nbsp;&nbsp;WhenThursday, May 28th6pm&nbsp;WherePKL Boston64 C Street, South Boston, MA 021027T: 617.315.7265&nbsp;Lite refreshments provided; cash bar.&nbsp;&nbsp;Questions?If you have any questions, please don't hesitate to contact Shafika Khayatt, Executive Director:E: director@dartmouthdragonfoundation.orgM: 603.667.3187&nbsp;And please don't forget to register above so we have an accurate count for food!&nbsp;&nbsp;We hope we'll see you at PKL in May!&nbsp;&nbsp;
END:VEVENT
END:VCALENDAR
