BEGIN:VCALENDAR
VERSION:2.0
PRODID:-//360 Alumni//Dartmouth Dragon Foundation//EN
METHOD:REQUEST
BEGIN:VEVENT
UID:5888
DTSTAMP:20191012T230000Z
DTSTART:20191012T230000Z
DTEND:20191013T020000Z
LOCATION:The Quechee Inn at Marshland Farm
SUMMARY: DDF  Alumni Dinner
DESCRIPTION: Join your fellow Dragon Alumni in Hanover Homecoming Weekend to officially launch the Darmouth Dragon Foundation!Friday, October 11,&nbsp;2019Starting at 6pm at the Tomb, join us&nbsp; for conversation and connections.&nbsp;Drinks and lite fare will be provided.&nbsp;Saturday, October 12, 2019Register for the DDF Kick-Off Alumni Dinner at the Quechee Inn at Marshland Farm. Buses will leave from the HOP at 6:30pm. Cocktails are scheduled for 7pm followed by&nbsp;dinner at 8pm. Meet fellow Dragons, hear about why we established the DDF and what we hope to accomplish, and learn how you can help! Return transportation to the Tomb will begin at 9pm.&nbsp;We hope to see you there!&nbsp;&nbsp;
END:VEVENT
END:VCALENDAR
