BEGIN:VCALENDAR
VERSION:2.0
PRODID:-//360 Alumni//Dartmouth Dragon Foundation//EN
METHOD:REQUEST
BEGIN:VEVENT
UID:6434
DTSTAMP:20200227T233000Z
DTSTART:20200227T233000Z
DTEND:20200228T023000Z
LOCATION:MJ Smith's Food & Spirits
SUMMARY: New York City Dragon Reception
DESCRIPTION: Join your fellow Goons on Thursday, February 27th at MJ Smith's to catch up on Dragon and learn about the important work of the Dartmouth Dragon Foundation over cocktails and appetizers.&nbsp;The Foundation was established to support three key pillars: Community, Philanthropy, and Preservation. Our goals are to increase connections across class years, support philanthropic, community service and educational activities among Dragons and in the Dartmouth community, and preserve the historical architecture of the Tomb for generations to come.&nbsp;We have reserved a private room on the 2nd floor. Come when you can to catch up on all things Dragon and learn how you can get involved.&nbsp;Please don't forget to RSVP.All Dragons are welcome!
END:VEVENT
END:VCALENDAR
