BEGIN:VCALENDAR
VERSION:2.0
PRODID:-//360 Alumni//Dartmouth Dragon Foundation//EN
METHOD:REQUEST
BEGIN:VEVENT
UID:8340
DTSTAMP:20210527T000000Z
DTSTART:20210527T000000Z
DTEND:20210527T010000Z
LOCATION:online event
SUMMARY: Tomb Talks: Jeff Immelt D'78
DESCRIPTION: Leading in Times of Crisis: A Conversation with Jeff Immelt D'78Join us for a conversation with Jeff Immelt D'78, former Chairman &amp; CEO of GE and Venture Partner at NEA, about his book&nbsp;Hot Seat: Hard-Won Lessons in Challenging Times&nbsp;that discusses his&nbsp;tenure leading an iconic company. Jeff Davidson D'01 will moderate the conversation followed by a Q&amp;A session with attendees.&nbsp;Speaker BioJeff Immelt was the ninth Chairman of GE and served as CEO for sixteen&nbsp;years. He has been named one of the &ldquo;World&rsquo;s Best CEOs&rdquo; three times by&nbsp;Barron&rsquo;s. During his tenure as CEO, GE was named &ldquo;America&rsquo;s Most&nbsp;Admired Company&rdquo; by&nbsp;Fortune&nbsp;magazine and one of &ldquo;The World&rsquo;s Most&nbsp;Respected Companies&rdquo; in polls by&nbsp;Barron&rsquo;s&nbsp;and the&nbsp;Financial Times. Immelt&nbsp;has received fifteen honorary degrees and numerous awards for business&nbsp;leadership and chaired the President&rsquo;s Council on Jobs and&nbsp;Competitiveness under the Obama administration. He is a member of The&nbsp;American Academy of Arts &amp; Sciences, and a lecturer at Stanford&nbsp;University. Immelt earned a BA in applied mathematics from Dartmouth&nbsp;College and an MBA from Harvard University. He and his wife have one&nbsp;daughter.
END:VEVENT
END:VCALENDAR
