BEGIN:VCALENDAR
VERSION:2.0
PRODID:-//360 Alumni//Dartmouth Dragon Foundation//EN
METHOD:REQUEST
BEGIN:VEVENT
UID:9777
DTSTAMP:20221208T000000Z
DTSTART:20221208T000000Z
DTEND:20221208T013000Z
LOCATION:online event
SUMMARY: Tomb Talks:  Erik Andreasen '01
DESCRIPTION: Goon'ing it Up in Tinsel Town: A Conversation with Erik Andreasen, Dragon '01Join us to learn more about Erik Andreasen's, Dragon '01, journey through the entertainment industry, from the mailroom at a talent agency to the animation world at DreamWorks. Using his career as a backdrop, Erik will discuss some of the modern trends in entertainment, the recent shift towards streaming services, and share some stories about the lesser-known sides of Hollywood.&nbsp;&nbsp;Speaker BioErik Andreasen, Dragon '01, is a Senior Vice President in the Feature Development division at DreamWorks Animation. Prior to joining DreamWorks, Erik began his career in the mailroom at the Endeavor Agency followed by stints at Warner Brothers, Di Novi Pictures, Global Road Entertainment, and Participant Media. He has been an executive on dozens of films, including Contagion, Beasts of No Nation, Spotlight, A Monster Calls, Deepwater Horizon, and The Bad Guys.
END:VEVENT
END:VCALENDAR
